Workbook
Name AcademiaAdministrativeSupportCategories: Constants!$A$58:$A$59
Name AcademiaConsultantCategories: Constants!$A$55
Name AcademiaLaborGroups: Constants!$A$21:$A$24
Name AcademiaProjectManagementCategories: Constants!$A$35:$A$38
Name AcademiaResearchCategories: Constants!$A$41:$A$52
Name ff.dlrs.Base: 'Total Amount'!$F$72
Name ff.dlrs.Op1: 'Total Amount'!$I$72
Name ff.dlrs.Op2: 'Total Amount'!$L$72
Name ff.dlrs.Op3: 'Total Amount'!#REF!
Name ff.dlrs.Op4: 'Total Amount'!#REF!
Name ff.dlrs.Op5: 'Total Amount'!#REF!
Name GeneralConsultantCategories: Constants!$A$107
Name GeneralLaborGroups: Constants!$A$27:$A$32
Name GeneralManufacturingCategories: Constants!$A$92:$A$103
Name GeneralProjectManagementCategories: Constants!$A$68:$A$73
Name GeneralScienceandEngineeringCategories: Constants!$A$76:$A$81
Name GeneralSoftwareDevelopmentCategories: Constants!$A$84:$A$89
Name GeneralSupportCategories: Constants!$A$62:$A$65
Name Indirect.Rate.Table: 'Indirect Rates and Profit_Fee'!$A$4:$L$11
Name IndirectRateCategories: Constants!$A$113:$A$129
Name Labor.Rates.Table: 'Labor Rates'!$A$7:$AN$32
Name Labor_Cats_Sorted_Table: Constants!$A$111:$A$156
Name LaborCollection: Constants!$A$15
Name NoBusinessTypeSelected: Constants!$A$18
Name Offeror.Bus.Type: 'Proposer Constants'!$A$4
Name OfferorBusinessTypes: Constants!$A$8:$A$12
Name OfferorBusType: 'Proposer Constants'!$A$4
Name Period1_Label: 'Proposer Constants'!$B$9
Name Period2_Label: 'Proposer Constants'!$C$9
Name Period3_Label: 'Proposer Constants'!$D$9
Name Period4_Label: 'Proposer Constants'!$E$9
Name Period5_Label: 'Proposer Constants'!$F$9
Name Period6_Label: 'Proposer Constants'!$G$9
Name SBIRSTTRPhaseChoices: [1]Constants!$A$144:$A$147
Name SBIRSTTRPhaseChoices: [2]Constants!$A$134:$A$137
Name SBIRSTTRPhaseChoices: Constants!$A$135:$A$138
Name sc.dlrs.Base: 'Total Amount'!$F$61
Name sc.dlrs.Op1: 'Total Amount'!$I$61
Name sc.dlrs.Op2: 'Total Amount'!$L$61
Name sc.dlrs.Op3: 'Total Amount'!#REF!
Name sc.dlrs.Op4: 'Total Amount'!#REF!
Name sc.dlrs.Op5: 'Total Amount'!#REF!
Name SmallBusinessSizeChoices: Constants!$A$143:$A$146
Name SpecificAnnouncementNumber: Constants!$A$5
Name SpreadsheetVersionNumber: Constants!$A$2
Name tcc.dlrs.Base: 'Total Amount'!$F$50
Name tcc.dlrs.Op1: 'Total Amount'!$I$50
Name tcc.dlrs.Op2: 'Total Amount'!$L$50
Name tcc.dlrs.Op3: 'Total Amount'!#REF!
Name tcc.dlrs.Op4: 'Total Amount'!#REF!
Name tcc.dlrs.Op5: 'Total Amount'!#REF!
Name tcm.dlrs.Base: 'Total Amount'!$F$70
Name tcm.dlrs.Op1: 'Total Amount'!$I$70
Name tcm.dlrs.Op2: 'Total Amount'!$L$70
Name tcm.dlrs.Op3: 'Total Amount'!#REF!
Name tcm.dlrs.Op4: 'Total Amount'!#REF!
Name tcm.dlrs.Op5: 'Total Amount'!#REF!
Name tdlc.dlrs.Base: 'Total Amount'!$F$32
Name tdlc.dlrs.Op1: 'Total Amount'!$I$32
Name tdlc.dlrs.Op2: 'Total Amount'!$L$32

Sheet Coversheet

Sheet General
A1: DARPA Standard Cost Proposal Spreadsheet (Single Technical Area) November 2021
A2: Proposer Name: | C2: Proposer's Name (Prime or Subcontractor) | D2: Proposer's CAGE
A3: Top Prime Proposer: | C3: Prime Contractor (Fill-in) (if applicable) | D3: Prime's CAGE
A4: Solicitation No. | C4: Solicitation # (Fill-in)
A5: Proposer's Proposal ID: | C5: Proposer's Proposal ID
A6: SBIR/STTR Phase: | C6: Not Applicable | D6: (drop-down list)
B8: GENERAL INFORMATION
B9: The purpose of the requested information in the 25 attached worksheets is to assist government personnel in the review and evaluation of cost proposals submitted by proposers. Proposers are reminded that the responsibility for providing adequate supporting data and attachments lies solely with them. Further, the proposer must also bear the burden of proof in establishing reasonableness of proposed costs; therefore, it is in the proposer’s best interest to submit a fully supportable and well-prepared cost proposal. The basis and rationale for all proposed costs should be provided as part of the proposal so that Government personnel can place reliance on the information as current, complete and accurate. Further, for procurement contracts, FAR 15.403-4 sets forth those circumstances in which proposers are required to submit certified cost or pricing data. This spreadsheet should be used for all cost proposals, regardless of award instrument: grant, cooperative agreement, contract, other transaction, or technology investment agreement.
B11: The purpose of this cost proposal spreadsheet is to assist the Government in completing a rapid analysis of your proposed costs and, if your proposal is selected for award, speeding up the negotiation and award execution process.
B12: Cost by Task: In addition to providing summary by period of performance (Base and any Options), the contractor is also responsible for providing a breakdown of cost for each task identified in the statement of work. The sum of all cost by task worksheets MUST equal the total cost summary.
B14: Options: Unpriced Options will not be accepted. Any Option that is not fully priced, will not be included in any resulting award.
B16: Enter the proposed cost detail for the Base and each Option period (as needed) on the tabs entitled,, "Base", "O-I". "O-II", O-III", "O-IV", and "O-V". The tab entitled, "Total Amount" will automatically calculate from the Base and Option tabs.
B18: • Before entering other data, fill in yellow fields on General tab, Proposer Constants tab, Labor Rates tab, and Indirect Rates tab. A Business Type on the Proposer Constants tab must be selected before Labor Groups and Labor Categories can be selected on the Labor Rates tab.
B19: • Proposers may add additional specific cost categories (Subcontractors, ODC types, etc.) as needed but must ensure those new cost categories track to the Total Amount tab. See the General Instructions document below for details. | P19: DARPA is interested in your feedback on this updated cost proposal spreadsheet. If you have suggestions for improving this spreadsheet, please send an email to costproposal@darpa.mil
B20: • Yellow and Clear cells are for data entry. Gray cells indicate references or formulas that should not be changed unless the formula does not match your organization's business rules. If you change these formulas, you must ensure the change does not affect the overall flow of the spreadsheet.
B21: • Ensure all costs from other worksheets are correct.
B22: • If a row, column, or worksheet in this spreadsheet is not needed for your proposal, either ignore it or Hide it; do not delete it.
B25: Below is a summary of the proposed cost. This chart will automatically fill in from the "Total Amount" tab. | J25: Below is a summary of Documentation/Documents Required
C26: ='Total Amount'!B32 -> Total Direct Labor Costs | D26: ='Total Amount'!N32 -> 0 | J26: Prior to Negotiations
C27: ='Total Amount'!B35 -> Total Fringe Benefit Costs | D27: ='Total Amount'!N35 -> 0 | J27: =IF(COUNTIF(Subcontractor!B16:O24,"<>"&"")>0, "Prime Contractor's Cost Analysis and Source Selection documentationfor each Subcontractor", "")
C28: ='Total Amount'!B38 -> Total Labor Overhead Costs | D28: ='Total Amount'!N38 -> 0 | J28: =IF(COUNTIF(Consultants!B4:D12,"<>"&"")>0, "Consulting Agreement for each Consultant", "")
C29: ='Total Amount'!B44 -> Total Subcontract Costs | D29: ='Total Amount'!N44 -> 0 | J29: =IF(COUNTIF('Materials-Supplies'!B4:D12,"<>"&"")>0, "Supporting documentation for Materials/Supplies", "")
C30: ='Total Amount'!B50 -> Total Consultant Costs | D30: ='Total Amount'!N50 -> 0 | J30: =IF(COUNTIF(Equipment!B4:H8,"<>"&"")>0, "Supporting documentation for Equipment", "")
C31: ='Total Amount'!B56 -> Total Other Direct Costs | D31: ='Total Amount'!N56 -> 0 | J31: =IF(COUNTIF('ODC Details'!B4:D10,"<>"&"")>0, "Supporting documentation for Other ODC", "")
C32: ='Total Amount'!B60 -> Total Material Handling Costs | D32: ='Total Amount'!N60 -> 0 | J32: =IF(COUNTIF('Labor Rates'!C8:C30,"<>"&"")>0, "Basis of Indirect Rate for each Indirect Rate", "")
C33: ='Total Amount'!A61 -> Subtotal Costs | D33: ='Total Amount'!N61 -> 0
C34: ='Total Amount'!B65 -> Total G&A Costs | D34: ='Total Amount'!N65 -> 0
C35: ='Total Amount'!A66 -> Subtotal Costs | D35: ='Total Amount'!N66 -> 0
C36: ='Total Amount'!B70 -> Total Cost of Money | D36: ='Total Amount'!N70 -> 0 | J36: Prior to Contract
C37: ='Total Amount'!A71 -> Total Estimated Costs | D37: ='Total Amount'!N71 -> 0 | J37: Certificate of Current Cost/Pricing Data for Prime if Contract > $2,000,000
C38: ='Total Amount'!A72 -> Fixed Fee (If proposing a CPFF contract) or Profit | D38: ='Total Amount'!N72 -> 0 | J38: Certificate of Current Cost/Pricing Data for each Subcontractor > $2,000,000
C39: ='Total Amount'!A73 -> Total Estimated Costs Plus Fixed Fee | D39: ='Total Amount'!N73 -> 0 | J39: If small business or non-traditional defense contractor, Certificate of Current Cost/Pricing Data for each Contract/Subcontractor > $7,500,000

Sheet Instructions
A1: Spreadsheet Instructions
A3: • These instructions describe how to use this DARPA Standard Cost Proposal spreadsheet to prepare an organization's cost proposal. These instructions do not replace or supersede cost proposal instructions given in the solicitation or announcement.
A4: • This spreadsheet can be used by both prime and sub proposers. Each proposer completes a spreadsheet specific to their organization.
A5: • The instructions that follow apply to the tabs/worksheets that are colored yellow, dark-gray, purple, and orange because these tabs are linked together using references and formulas. The light-gray tabs, such as Subcontractor, Consultants, Travel, etc., are stand-alone tabs that provide space for cost proposal details as required. You may modify formulas on the light-gray tabs. You may add tabs to clarify your proposal.
A6: • In addition to the instructions provided below, each tab may have additional guidance and instructions on it.
A8: Worksheet/Tab (Yellow, Dark-Gray, Purple or Orange color tabs)
A9: All Tabs
B10: • DO NOT DELETE tabs, rows, or columns that exist in this template. This will damage the structure of the spreadsheet. If you don't want to see a tab, row, or column, use the Hide function.
B11: • Before entering detailed proposal data, fill in the yellow fields on the General, Proposer Constants, Labor Rates, and Indirect Rates tabs. A Business Type on the Proposer Constants tab must be selected before Labor Groups and Labor Categories can be selected on the Labor Rates tab.
B12: • Yellow and Clear cells are for data entry. Gray cells indicate references or formulas that should not be changed unless the formula does not match your organization's business rules. If you change these formulas, you must ensure the change does not affect the overall flow of the spreadsheet.
B13: • When you are asked to select from a pick-list, use your best judgement and choose the closest fit.
B14: • If you need to add a new line on any tab, the line must be simultaneously added to multiple tabs. See the instructions below to add new lines.
A16: General Tab
B17: • Complete the yellow cells as appropriate. CAGE codes and an accurate DARPA solicitation number are helpful.
B18: • The Summary of Proposed Cost and Summary of Documentation will self-complete as you enter cost data into the template.
A20: Proposer Constants Tab
B21: • In cell A4, select the organization type that best describes your organization. This selection drives the list of DARPA Labor Groups and Labor Categories that appear on the Labor Rates tab. If you change this selection, you need to reselect Labor Categories and Labor Categories on the Labor Rates tab.
B22: • If you select a Business Type of 'Small Business', the Small Business Size Estimate area will activate. Select the range of the number of employees that best fits your organization at the time of this proposal.
B23: • Proposer Accounting Periods describe the begin/end dates for your organization's accounting periods. Transitions between accounting periods represent when labor rates and other costs change. Most likely, each part of a proposed effort will include more than one proposer accounting period. Do not leave a gap between fiscal years.
B24: • Change the Proposer's Preferred Label for each fiscal year as you see fit. This label will appear on the Labor Rates, Indirect Rates, and all Cost Detail tabs.
B25: • This spreadsheet provides six proposer fiscal years, which is typically sufficient for DARPA efforts. If you need more fiscal years (or accounting periods), use a second spreadsheet -- do not attempt to add fiscal years to this spreadsheet.
A27: Labor Rates Tab
B28: • This spreadsheet heavily relies on the Labor Rates tab. This tab is where you list all labor categories and changing rates to be used in all Cost Detail tabs of the proposal, be it the Base/Option tabs, Task tabs, or Technical Area tabs.
B29: • Each of your labor categories represent one line in this table. Enter your labor category name in column C and more details (if needed) in column D. These two columns will appear on all of the cost detail tabs.
B30: • For each of your labor categories, select the DARPA Labor Group and Category that best fits the labor category. First select a Group, and this will shorten the list of Categories. See the Labor Rates tab itself for a description of the DARPA Labor Categories. These descriptions do not have strictly defined boundaries.
B31: • For academic institutions (or other organizations) that may normally apply a percentage of a Full Time Equivalent (FTE) to an annual salary, please show the labor rate calculation in the Hourly Labor Rate cell. This can be done by dividing an annual salary by the FTE labor hours (for example, hourly labor rate = annual salary/2080)
B32: • You only need to enter rate information for the fiscal years when that particular labor category will be used.
B33: • If you need more labor categories than the 24 provided lines, see the instructions below to add more lines to this Labor Rates tab and all of the Cost Detail tabs.
A35: Indirect Rates and Profit_Fee Tab
B36: • For each proposer fiscal year, list each indirect rate (or profit/fee rate) your organization uses in this proposal. Pick the DARPA Rate Category that best matches each indirect rate. If no Category matches, pick "Other".
B37: • You should connect the Fringe, Overhead, and G&A/F&A rates entered on this tab to the appropriate cells in the Labor Rates tab. A relationship is set by default, and you can change this relationship to make it accurate for your organization. For example, University organizations should change the G&A DARPA Category to be F&A.
A39: Cost Detail Tabs (These include Base, Options, TA, TA Summary, and Task tabs)
B40: • Place costs and labor hours under the appropriate proposer fiscal year for this particular section of work.
B41: • In the Direct Labor section, do not change the labor categories or names on these Cost Detail tabs. All changes to labor categories and names must be done centrally on the Labor Rates tab.
B42: • Other than the Direct Labor section, the names or labels that appear in column B of the Base, Option, Task and Total Amount tabs (after row 38) all come from column B of the Base (Phase I) tab. Enter/change all names/labels on the Base tab, even if that particular row is not used for the Base phase. All cost detail tabs should have the exact same rows. For example, if you have a particular consultant that will only be involved in Option II, enter that consultant’s name on the Base tab but only enter that consultant’s costs on the Option II tab.
B43: • Proposers may add additional specific cost categories (Subcontractors, ODC types, etc.) as needed but must ensure those new cost categories track to the Total Amount tab. Follow the instructions below to add more rows.
B44: • The orange Task tabs (at the far right end of the many tabs) should be used when the proposal instructions request a breakdown of costs below the Option, Phase, or Technical Area level. Examples are task-breakout, milestones, or months. Costs should be entered on these Task tabs and mapped up to the proper Option, Phase or Technical Area tab using formulas. The Task tabs can be duplicated as many times as needed and can be renamed to be appropriate for your proposal.
A46: Adding Rows
B47: • This spreadsheet is designed to handle the addition of rows. It cannot handle the addition or removal of columns. As you use the spreadsheet, feel free to use the Excel Hide function to hide rows or columns that seem excessive.
B48: • When you add rows to the spreadsheet, it must be done consistently for all related worksheets. The instructions below describe how to add rows for the Labor Rates and Cost Detail tabs.
...

Sheet Change Notes
A1: Version ID | B1: Tab | C1: Changes from Previous
A2: 12-2019 | C2: Original Version used for BTO BAA.
A3: 01-2020.1 | B3: Base, all Options, Tasks | C3: In Base and all Option tabs and two TASK tabs, column Q in Labor Rates table, now refers to correct column (N) instead of (M). Incorrect column caused Fringe Benefit Rate to be used instead of Labor Overhead Rate in calculations. This was only incorrect for the second fiscal year (only column Q).
A4: 01-2020.1 | B4: Base, all Options, Tasks | C4: In all of the same tabs described above, cell U72 was distributed with "10%" as the default value. This is changed to be 0%
A5: 01-2020.1 | B5: Summary Cost Table | C5: Removed the inclusion of row D (hours) in the Checksum value in the bottom row.
A6: 03-2020 | B6: Base, all Options, Tasks | C6: Summed the Hours for Consultants.
A7: 03-2020 | B7: General | C7: Updated the General Instructions Word document.
A8: 03-2020 | B8: Base | C8: Yellow highlights added to column B.
A9: 04-2020 | B9: Constants | C9: There were two "Program/Project Manager III" categories. Changed second one to be "Program/Project Manager II"
A10: 1.04.00 | B10: General | C10: Top, added CAGE codes and proposer's proposal ID.
A11: 1.04.00 | B11: Constants | C11: Added Fringe, Overhead (Labor), G&A (Labor) and F&A (Labor) to the Indirect Rates list.
A12: 1.04.00 | B12: General | C12: Cells B18 & B19 instructions expanded.
A13: 1.04.00 | B13: Labor Rates | C13: Updated A7, B7 to include the word "Required".
A14: 1.04.00 | B14: Offeror Constants | C14: Replaced out-year fiscal year dates with formulas that add 12 months to the prior FY date. Plus conditional formatting on FY Begin Dates.
... A31: 1.06.03 | B31: Labor Rates | C31: Changed column name from Fully Loaded Rate to Loaded Hourly Rate

Sheet Constants
A1: Spreadsheet Version Number
A2: 1.06.03 | B2: First digit change --> prior functions changes. Second digit change --> new function added. Third digit change --> change in spreadsheet that does not affect CPDB.
A4: SpecificAnnouncementNumber
A7: General, I2, Picklist of Offeror Business Types | D7: Cell Range Naming Conventions:
A8: Large Business | D8: ThisIsAName = internal constants such as pick-lists
A9: Small Business | D9: This.Is.a.Name = named ranges holding proposer data
A10: Non-Profit
A11: Academia
A12: Lab/FFRDC | D12: Labor Collection --> Labor Group --> Labor Category
A14: Labor Collection based on Offeror Business Type Selection | C14: =CONCATENATE("Offeror.Bus.Type is ",Offeror.Bus.Type) -> Offeror.Bus.Type is
A15: =IF(Offeror.Bus.Type = "", "",IF(Offeror.Bus.Type = "Academia","Academia","General")) | B15: Valid values are Academia or General | D15: Add/Change Labor Collection requires Data Validation code change on Labor Rates tab, and new Labor Group list below.
A17: No Business Type Selected | B17: instructional choice
A18: First select a Business Type | B18: No Labor Collection is available
A20: Academia Labor Groups | D20: Add/Change Labor Group requires changes below to Categories
A21: Project Management
A22: Research
A23: Consultant
A24: Administrative Support
A26: General Labor Groups
A27: Project Management
A28: Science and Engineering
A29: Software Development
A30: Manufacturing
A31: Consultant
A32: Support
A34: Academia Project Management Categories
... A178: Business

Sheet Proposer Constants
A1: Proposer's Data Affecting Entire Spreadsheet
A3: This Organization's Business Type: | C3: Small Business Size Estimate:
B4: (drop-down-list) | C4: Not Applicable | D4: (drop-down-list)
A7: Proposer Accounting Periods
A8: Enter the expected date range of each accounting period from the Proposer's perspective. A period change would represent a change in hourly rates or indirect cost rates.
A9: Proposer's Preferred Label: | B9: Proposer FY 1 | C9: Proposer FY 2 | D9: Proposer FY 3 | E9: Proposer FY 4 | F9: Proposer FY 5 | G9: Proposer FY 6
A10: Fiscal Year Begin Date: | B10: 44348 | C10: =EDATE(B10,12) -> 44713 | D10: =EDATE(C10,12) -> 45078 | E10: =EDATE(D10,12) -> 45444 | F10: =EDATE(E10,12) -> 45809 | G10: =EDATE(F10,12) -> 46174
A11: Fiscal Year End Date: | B11: 44712 | C11: =EDATE(B11,12) -> 45077 | D11: =EDATE(C11,12) -> 45443 | E11: =EDATE(D11,12) -> 45808 | F11: =EDATE(E11,12) -> 46173 | G11: =EDATE(F11,12) -> 46538
A13: Note 1 - Proposers should set the period of performance for the Base and each Option in cell C1 of the corresponding tabs.
A15: Note 2 - A Fiscal Year Begin Date should be one day after the Fiscal Year End Date of the prior fiscal year (or accounting period). Cells will turn red if this condition is not met.

Sheet Labor Rates
A1: Labor Rates
A2: =General!C2 -> Proposer's Name (Prime or Subcontractor)
A3: This line is blank to help align row numbers on this tab with the rows on the Base and Options tabs
A4: This line is blank to help align row numbers on this tab with the rows on the Base and Options tabs
E5: =Period1_Label -> Proposer FY 1 | K5: =Period2_Label -> Proposer FY 2 | Q5: =Period3_Label -> Proposer FY 3 | W5: =Period4_Label -> Proposer FY 4 | AC5: =Period5_Label -> Proposer FY 5 | AI5: =Period6_Label -> Proposer FY 6 | AO5: Basis of Labor Rate (Note 1)
A6: Pick-List | B6: Pick-List | C6: Open Text | D6: Open Text | E6: $$$ | G6: % | H6: % | I6: % | J6: Calculated | K6: $$$ | L6: Calculated | M6: % | N6: % | O6: % | P6: Calculated | Q6: $$$ | R6: Calculated | S6: % | T6: % | U6: % | V6: Calculated | W6: $$$ | X6: Calculated | Y6: % | Z6: % | AA6: % | AB6: Calculated | AC6: $$$ | AD6: Calculated | AE6: % | AF6: % | AG6: % | AH6: Calculated | AI6: $$$ | AJ6: Calculated | AK6: % | AL6: % | AM6: % | AN6: Calculated
A7: Required 1. DARPA Labor Group | B7: Required 2. DARPA Labor Category | C7: Proposer's Labor Category | D7: Name or Comment | E7: Hourly Labor Rate | G7: Fringe Benefits Rate | H7: Labor Overhead Rate | I7: =IF(LaborCollection="Academia","F&A Rate","G&A Rate") -> G&A Rate | J7: Loaded Hourly Rate | K7: Hourly Labor Rate | L7: Labor Escalation Rate | M7: Fringe Benefits Rate | N7: Labor Overhead Rate | O7: =IF(LaborCollection="Academia","F&A Rate","G&A Rate") -> G&A Rate | P7: Loaded Hourly Rate | Q7: Hourly Labor Rate | R7: Labor Escalation Rate | S7: Fringe Benefits Rate | T7: Labor Overhead Rate | U7: =IF(LaborCollection="Academia","F&A Rate","G&A Rate") -> G&A Rate | V7: Loaded Hourly Rate | W7: Hourly Labor Rate | X7: Labor Escalation Rate | Y7: Fringe Benefits Rate | Z7: Labor Overhead Rate | AA7: =IF(LaborCollection="Academia","F&A Rate","G&A Rate") -> G&A Rate | AB7: Loaded Hourly Rate | AC7: Hourly Labor Rate | AD7: Labor Escalation Rate | AE7: Fringe Benefits Rate | AF7: Labor Overhead Rate | AG7: =IF(LaborCollection="Academia","F&A Rate","G&A Rate") -> G&A Rate | AH7: Loaded Hourly Rate | AI7: Hourly Labor Rate | AJ7: Labor Escalation Rate | AK7: Fringe Benefits Rate | AL7: Labor Overhead Rate | AM7: =IF(LaborCollection="Academia","F&A Rate","G&A Rate") -> G&A Rate | AN7: Loaded Hourly Rate | AO7: (Example: FPRA, Individual Payrate, Average for Job Category, etc.)
B8: =IF(ISBLANK(C8),"","Select a DARPA Labor Cat.") | E8: 0 | F8: N/A | G8: ='Indirect Rates and Profit_Fee'!$D$5 -> 0 | H8: ='Indirect Rates and Profit_Fee'!$D$6 -> 0 | I8: ='Indirect Rates and Profit_Fee'!$D$7 -> 0 | J8: =E8*(1+G8)*(1+H8)*(1+I8) -> 0 | L8: =IF(E8=0,"N/A",((K8-E8)/E8)) -> N/A | M8: ='Indirect Rates and Profit_Fee'!$E$5 -> 0 | N8: ='Indirect Rates and Profit_Fee'!$E$6 -> 0 | O8: ='Indirect Rates and Profit_Fee'!$E$7 -> 0 | P8: =K8*(1+M8)*(1+N8)*(1+O8) -> 0 | R8: =IF(K8=0,"N/A",((Q8-K8)/K8)) -> N/A | S8: ='Indirect Rates and Profit_Fee'!$F$5 -> 0 | T8: ='Indirect Rates and Profit_Fee'!$F$6 -> 0 | U8: ='Indirect Rates and Profit_Fee'!$F$7 -> 0 | V8: =Q8*(1+S8)*(1+T8)*(1+U8) -> 0 | X8: =IF(Q8=0,"N/A",((W8-Q8)/Q8)) -> N/A | Y8: ='Indirect Rates and Profit_Fee'!$G$5 -> 0 | Z8: ='Indirect Rates and Profit_Fee'!$G$6 -> 0 | AA8: ='Indirect Rates and Profit_Fee'!$G$7 -> 0 | AB8: =W8*(1+Y8)*(1+Z8)*(1+AA8) -> 0 | AD8: =IF(W8=0,"N/A",((AC8-W8)/W8)) -> N/A | AE8: ='Indirect Rates and Profit_Fee'!$H$5 -> 0 | AF8: ='Indirect Rates and Profit_Fee'!$H$6 -> 0 | AG8: ='Indirect Rates and Profit_Fee'!$H$7 -> 0 | AH8: =AC8*(1+AE8)*(1+AF8)*(1+AG8) -> 0 | AJ8: =IF(AC8=0,"N/A",((AI8-AC8)/AC8)) -> N/A | AK8: ='Indirect Rates and Profit_Fee'!$I$5 -> 0 | AL8: ='Indirect Rates and Profit_Fee'!$I$6 -> 0 | AM8: ='Indirect Rates and Profit_Fee'!$I$7 -> 0 | AN8: =AI8*(1+AK8)*(1+AL8)*(1+AM8) -> 0
B9: =IF(ISBLANK(C9),"","Select a DARPA Labor Cat.") | F9: N/A | G9: ='Indirect Rates and Profit_Fee'!$D$5 -> 0 | H9: ='Indirect Rates and Profit_Fee'!$D$6 -> 0 | I9: ='Indirect Rates and Profit_Fee'!$D$7 -> 0 | J9: =E9*(1+G9)*(1+H9)*(1+I9) -> 0 | L9: =IF(E9=0,"N/A",((K9-E9)/E9)) -> N/A | M9: ='Indirect Rates and Profit_Fee'!$E$5 -> 0 | N9: ='Indirect Rates and Profit_Fee'!$E$6 -> 0 | O9: ='Indirect Rates and Profit_Fee'!$E$7 -> 0 | P9: =K9*(1+M9)*(1+N9)*(1+O9) -> 0 | R9: =IF(K9=0,"N/A",((Q9-K9)/K9)) -> N/A | S9: ='Indirect Rates and Profit_Fee'!$F$5 -> 0 | T9: ='Indirect Rates and Profit_Fee'!$F$6 -> 0 | U9: ='Indirect Rates and Profit_Fee'!$F$7 -> 0 | V9: =Q9*(1+S9)*(1+T9)*(1+U9) -> 0 | X9: =IF(Q9=0,"N/A",((W9-Q9)/Q9)) -> N/A | Y9: ='Indirect Rates and Profit_Fee'!$G$5 -> 0 | Z9: ='Indirect Rates and Profit_Fee'!$G$6 -> 0 | AA9: ='Indirect Rates and Profit_Fee'!$G$7 -> 0 | AB9: =W9*(1+Y9)*(1+Z9)*(1+AA9) -> 0 | AD9: =IF(W9=0,"N/A",((AC9-W9)/W9)) -> N/A | AE9: ='Indirect Rates and Profit_Fee'!$H$5 -> 0 | AF9: ='Indirect Rates and Profit_Fee'!$H$6 -> 0 | AG9: ='Indirect Rates and Profit_Fee'!$H$7 -> 0 | AH9: =AC9*(1+AE9)*(1+AF9)*(1+AG9) -> 0 | AJ9: =IF(AC9=0,"N/A",((AI9-AC9)/AC9)) -> N/A | AK9: ='Indirect Rates and Profit_Fee'!$I$5 -> 0 | AL9: ='Indirect Rates and Profit_Fee'!$I$6 -> 0 | AM9: ='Indirect Rates and Profit_Fee'!$I$7 -> 0 | AN9: =AI9*(1+AK9)*(1+AL9)*(1+AM9) -> 0
B10: =IF(ISBLANK(C10),"","Select a DARPA Labor Cat.") | F10: N/A | G10: ='Indirect Rates and Profit_Fee'!$D$5 -> 0 | H10: ='Indirect Rates and Profit_Fee'!$D$6 -> 0 | I10: ='Indirect Rates and Profit_Fee'!$D$7 -> 0 | J10: =E10*(1+G10)*(1+H10)*(1+I10) -> 0 | L10: =IF(E10=0,"N/A",((K10-E10)/E10)) -> N/A | M10: ='Indirect Rates and Profit_Fee'!$E$5 -> 0 | N10: ='Indirect Rates and Profit_Fee'!$E$6 -> 0 | O10: ='Indirect Rates and Profit_Fee'!$E$7 -> 0 | P10: =K10*(1+M10)*(1+N10)*(1+O10) -> 0 | R10: =IF(K10=0,"N/A",((Q10-K10)/K10)) -> N/A | S10: ='Indirect Rates and Profit_Fee'!$F$5 -> 0 | T10: ='Indirect Rates and Profit_Fee'!$F$6 -> 0 | U10: ='Indirect Rates and Profit_Fee'!$F$7 -> 0 | V10: =Q10*(1+S10)*(1+T10)*(1+U10) -> 0 | X10: =IF(Q10=0,"N/A",((W10-Q10)/Q10)) -> N/A | Y10: ='Indirect Rates and Profit_Fee'!$G$5 -> 0 | Z10: ='Indirect Rates and Profit_Fee'!$G$6 -> 0 | AA10: ='Indirect Rates and Profit_Fee'!$G$7 -> 0 | AB10: =W10*(1+Y10)*(1+Z10)*(1+AA10) -> 0 | AD10: =IF(W10=0,"N/A",((AC10-W10)/W10)) -> N/A | AE10: ='Indirect Rates and Profit_Fee'!$H$5 -> 0 | AF10: ='Indirect Rates and Profit_Fee'!$H$6 -> 0 | AG10: ='Indirect Rates and Profit_Fee'!$H$7 -> 0 | AH10: =AC10*(1+AE10)*(1+AF10)*(1+AG10) -> 0 | AJ10: =IF(AC10=0,"N/A",((AI10-AC10)/AC10)) -> N/A | AK10: ='Indirect Rates and Profit_Fee'!$I$5 -> 0 | AL10: ='Indirect Rates and Profit_Fee'!$I$6 -> 0 | AM10: ='Indirect Rates and Profit_Fee'!$I$7 -> 0 | AN10: =AI10*(1+AK10)*(1+AL10)*(1+AM10) -> 0
B11: =IF(ISBLANK(C11),"","Select a DARPA Labor Cat.") | F11: N/A | G11: ='Indirect Rates and Profit_Fee'!$D$5 -> 0 | H11: ='Indirect Rates and Profit_Fee'!$D$6 -> 0 | I11: ='Indirect Rates and Profit_Fee'!$D$7 -> 0 | J11: =E11*(1+G11)*(1+H11)*(1+I11) -> 0 | L11: =IF(E11=0,"N/A",((K11-E11)/E11)) -> N/A | M11: ='Indirect Rates and Profit_Fee'!$E$5 -> 0 | N11: ='Indirect Rates and Profit_Fee'!$E$6 -> 0 | O11: ='Indirect Rates and Profit_Fee'!$E$7 -> 0 | P11: =K11*(1+M11)*(1+N11)*(1+O11) -> 0 | R11: =IF(K11=0,"N/A",((Q11-K11)/K11)) -> N/A | S11: ='Indirect Rates and Profit_Fee'!$F$5 -> 0 | T11: ='Indirect Rates and Profit_Fee'!$F$6 -> 0 | U11: ='Indirect Rates and Profit_Fee'!$F$7 -> 0 | V11: =Q11*(1+S11)*(1+T11)*(1+U11) -> 0 | X11: =IF(Q11=0,"N/A",((W11-Q11)/Q11)) -> N/A | Y11: ='Indirect Rates and Profit_Fee'!$G$5 -> 0 | Z11: ='Indirect Rates and Profit_Fee'!$G$6 -> 0 | AA11: ='Indirect Rates and Profit_Fee'!$G$7 -> 0 | AB11: =W11*(1+Y11)*(1+Z11)*(1+AA11) -> 0 | AD11: =IF(W11=0,"N/A",((AC11-W11)/W11)) -> N/A | AE11: ='Indirect Rates and Profit_Fee'!$H$5 -> 0 | AF11: ='Indirect Rates and Profit_Fee'!$H$6 -> 0 | AG11: ='Indirect Rates and Profit_Fee'!$H$7 -> 0 | AH11: =AC11*(1+AE11)*(1+AF11)*(1+AG11) -> 0 | AJ11: =IF(AC11=0,"N/A",((AI11-AC11)/AC11)) -> N/A | AK11: ='Indirect Rates and Profit_Fee'!$I$5 -> 0 | AL11: ='Indirect Rates and Profit_Fee'!$I$6 -> 0 | AM11: ='Indirect Rates and Profit_Fee'!$I$7 -> 0 | AN11: =AI11*(1+AK11)*(1+AL11)*(1+AM11) -> 0
B12: =IF(ISBLANK(C12),"","Select a DARPA Labor Cat.") | F12: N/A | G12: ='Indirect Rates and Profit_Fee'!$D$5 -> 0 | H12: ='Indirect Rates and Profit_Fee'!$D$6 -> 0 | I12: ='Indirect Rates and Profit_Fee'!$D$7 -> 0 | J12: =E12*(1+G12)*(1+H12)*(1+I12) -> 0 | L12: =IF(E12=0,"N/A",((K12-E12)/E12)) -> N/A | M12: ='Indirect Rates and Profit_Fee'!$E$5 -> 0 | N12: ='Indirect Rates and Profit_Fee'!$E$6 -> 0 | O12: ='Indirect Rates and Profit_Fee'!$E$7 -> 0 | P12: =K12*(1+M12)*(1+N12)*(1+O12) -> 0 | R12: =IF(K12=0,"N/A",((Q12-K12)/K12)) -> N/A | S12: ='Indirect Rates and Profit_Fee'!$F$5 -> 0 | T12: ='Indirect Rates and Profit_Fee'!$F$6 -> 0 | U12: ='Indirect Rates and Profit_Fee'!$F$7 -> 0 | V12: =Q12*(1+S12)*(1+T12)*(1+U12) -> 0 | X12: =IF(Q12=0,"N/A",((W12-Q12)/Q12)) -> N/A | Y12: ='Indirect Rates and Profit_Fee'!$G$5 -> 0 | Z12: ='Indirect Rates and Profit_Fee'!$G$6 -> 0 | AA12: ='Indirect Rates and Profit_Fee'!$G$7 -> 0 | AB12: =W12*(1+Y12)*(1+Z12)*(1+AA12) -> 0 | AD12: =IF(W12=0,"N/A",((AC12-W12)/W12)) -> N/A | AE12: ='Indirect Rates and Profit_Fee'!$H$5 -> 0 | AF12: ='Indirect Rates and Profit_Fee'!$H$6 -> 0 | AG12: ='Indirect Rates and Profit_Fee'!$H$7 -> 0 | AH12: =AC12*(1+AE12)*(1+AF12)*(1+AG12) -> 0 | AJ12: =IF(AC12=0,"N/A",((AI12-AC12)/AC12)) -> N/A | AK12: ='Indirect Rates and Profit_Fee'!$I$5 -> 0 | AL12: ='Indirect Rates and Profit_Fee'!$I$6 -> 0 | AM12: ='Indirect Rates and Profit_Fee'!$I$7 -> 0 | AN12: =AI12*(1+AK12)*(1+AL12)*(1+AM12) -> 0
B13: =IF(ISBLANK(C13),"","Select a DARPA Labor Cat.") | F13: N/A | G13: ='Indirect Rates and Profit_Fee'!$D$5 -> 0 | H13: ='Indirect Rates and Profit_Fee'!$D$6 -> 0 | I13: ='Indirect Rates and Profit_Fee'!$D$7 -> 0 | J13: =E13*(1+G13)*(1+H13)*(1+I13) -> 0 | L13: =IF(E13=0,"N/A",((K13-E13)/E13)) -> N/A | M13: ='Indirect Rates and Profit_Fee'!$E$5 -> 0 | N13: ='Indirect Rates and Profit_Fee'!$E$6 -> 0 | O13: ='Indirect Rates and Profit_Fee'!$E$7 -> 0 | P13: =K13*(1+M13)*(1+N13)*(1+O13) -> 0 | R13: =IF(K13=0,"N/A",((Q13-K13)/K13)) -> N/A | S13: ='Indirect Rates and Profit_Fee'!$F$5 -> 0 | T13: ='Indirect Rates and Profit_Fee'!$F$6 -> 0 | U13: ='Indirect Rates and Profit_Fee'!$F$7 -> 0 | V13: =Q13*(1+S13)*(1+T13)*(1+U13) -> 0 | X13: =IF(Q13=0,"N/A",((W13-Q13)/Q13)) -> N/A | Y13: ='Indirect Rates and Profit_Fee'!$G$5 -> 0 | Z13: ='Indirect Rates and Profit_Fee'!$G$6 -> 0 | AA13: ='Indirect Rates and Profit_Fee'!$G$7 -> 0 | AB13: =W13*(1+Y13)*(1+Z13)*(1+AA13) -> 0 | AD13: =IF(W13=0,"N/A",((AC13-W13)/W13)) -> N/A | AE13: ='Indirect Rates and Profit_Fee'!$H$5 -> 0 | AF13: ='Indirect Rates and Profit_Fee'!$H$6 -> 0 | AG13: ='Indirect Rates and Profit_Fee'!$H$7 -> 0 | AH13: =AC13*(1+AE13)*(1+AF13)*(1+AG13) -> 0 | AJ13: =IF(AC13=0,"N/A",((AI13-AC13)/AC13)) -> N/A | AK13: ='Indirect Rates and Profit_Fee'!$I$5 -> 0 | AL13: ='Indirect Rates and Profit_Fee'!$I$6 -> 0 | AM13: ='Indirect Rates and Profit_Fee'!$I$7 -> 0 | AN13: =AI13*(1+AK13)*(1+AL13)*(1+AM13) -> 0
B14: =IF(ISBLANK(C14),"","Select a DARPA Labor Cat.") | F14: N/A | G14: ='Indirect Rates and Profit_Fee'!$D$5 -> 0 | H14: ='Indirect Rates and Profit_Fee'!$D$6 -> 0 | I14: ='Indirect Rates and Profit_Fee'!$D$7 -> 0 | J14: =E14*(1+G14)*(1+H14)*(1+I14) -> 0 | L14: =IF(E14=0,"N/A",((K14-E14)/E14)) -> N/A | M14: ='Indirect Rates and Profit_Fee'!$E$5 -> 0 | N14: ='Indirect Rates and Profit_Fee'!$E$6 -> 0 | O14: ='Indirect Rates and Profit_Fee'!$E$7 -> 0 | P14: =K14*(1+M14)*(1+N14)*(1+O14) -> 0 | R14: =IF(K14=0,"N/A",((Q14-K14)/K14)) -> N/A | S14: ='Indirect Rates and Profit_Fee'!$F$5 -> 0 | T14: ='Indirect Rates and Profit_Fee'!$F$6 -> 0 | U14: ='Indirect Rates and Profit_Fee'!$F$7 -> 0 | V14: =Q14*(1+S14)*(1+T14)*(1+U14) -> 0 | X14: =IF(Q14=0,"N/A",((W14-Q14)/Q14)) -> N/A | Y14: ='Indirect Rates and Profit_Fee'!$G$5 -> 0 | Z14: ='Indirect Rates and Profit_Fee'!$G$6 -> 0 | AA14: ='Indirect Rates and Profit_Fee'!$G$7 -> 0 | AB14: =W14*(1+Y14)*(1+Z14)*(1+AA14) -> 0 | AD14: =IF(W14=0,"N/A",((AC14-W14)/W14)) -> N/A | AE14: ='Indirect Rates and Profit_Fee'!$H$5 -> 0 | AF14: ='Indirect Rates and Profit_Fee'!$H$6 -> 0 | AG14: ='Indirect Rates and Profit_Fee'!$H$7 -> 0 | AH14: =AC14*(1+AE14)*(1+AF14)*(1+AG14) -> 0 | AJ14: =IF(AC14=0,"N/A",((AI14-AC14)/AC14)) -> N/A | AK14: ='Indirect Rates and Profit_Fee'!$I$5 -> 0 | AL14: ='Indirect Rates and Profit_Fee'!$I$6 -> 0 | AM14: ='Indirect Rates and Profit_Fee'!$I$7 -> 0 | AN14: =AI14*(1+AK14)*(1+AL14)*(1+AM14) -> 0
B15: =IF(ISBLANK(C15),"","Select a DARPA Labor Cat.") | F15: N/A | G15: ='Indirect Rates and Profit_Fee'!$D$5 -> 0 | H15: ='Indirect Rates and Profit_Fee'!$D$6 -> 0 | I15: ='Indirect Rates and Profit_Fee'!$D$7 -> 0 | J15: =E15*(1+G15)*(1+H15)*(1+I15) -> 0 | L15: =IF(E15=0,"N/A",((K15-E15)/E15)) -> N/A | M15: ='Indirect Rates and Profit_Fee'!$E$5 -> 0 | N15: ='Indirect Rates and Profit_Fee'!$E$6 -> 0 | O15: ='Indirect Rates and Profit_Fee'!$E$7 -> 0 | P15: =K15*(1+M15)*(1+N15)*(1+O15) -> 0 | R15: =IF(K15=0,"N/A",((Q15-K15)/K15)) -> N/A | S15: ='Indirect Rates and Profit_Fee'!$F$5 -> 0 | T15: ='Indirect Rates and Profit_Fee'!$F$6 -> 0 | U15: ='Indirect Rates and Profit_Fee'!$F$7 -> 0 | V15: =Q15*(1+S15)*(1+T15)*(1+U15) -> 0 | X15: =IF(Q15=0,"N/A",((W15-Q15)/Q15)) -> N/A | Y15: ='Indirect Rates and Profit_Fee'!$G$5 -> 0 | Z15: ='Indirect Rates and Profit_Fee'!$G$6 -> 0 | AA15: ='Indirect Rates and Profit_Fee'!$G$7 -> 0 | AB15: =W15*(1+Y15)*(1+Z15)*(1+AA15) -> 0 | AD15: =IF(W15=0,"N/A",((AC15-W15)/W15)) -> N/A | AE15: ='Indirect Rates and Profit_Fee'!$H$5 -> 0 | AF15: ='Indirect Rates and Profit_Fee'!$H$6 -> 0 | AG15: ='Indirect Rates and Profit_Fee'!$H$7 -> 0 | AH15: =AC15*(1+AE15)*(1+AF15)*(1+AG15) -> 0 | AJ15: =IF(AC15=0,"N/A",((AI15-AC15)/AC15)) -> N/A | AK15: ='Indirect Rates and Profit_Fee'!$I$5 -> 0 | AL15: ='Indirect Rates and Profit_Fee'!$I$6 -> 0 | AM15: ='Indirect Rates and Profit_Fee'!$I$7 -> 0 | AN15: =AI15*(1+AK15)*(1+AL15)*(1+AM15) -> 0
B16: =IF(ISBLANK(C16),"","Select a DARPA Labor Cat.") | F16: N/A | G16: ='Indirect Rates and Profit_Fee'!$D$5 -> 0 | H16: ='Indirect Rates and Profit_Fee'!$D$6 -> 0 | I16: ='Indirect Rates and Profit_Fee'!$D$7 -> 0 | J16: =E16*(1+G16)*(1+H16)*(1+I16) -> 0 | L16: =IF(E16=0,"N/A",((K16-E16)/E16)) -> N/A | M16: ='Indirect Rates and Profit_Fee'!$E$5 -> 0 | N16: ='Indirect Rates and Profit_Fee'!$E$6 -> 0 | O16: ='Indirect Rates and Profit_Fee'!$E$7 -> 0 | P16: =K16*(1+M16)*(1+N16)*(1+O16) -> 0 | R16: =IF(K16=0,"N/A",((Q16-K16)/K16)) -> N/A | S16: ='Indirect Rates and Profit_Fee'!$F$5 -> 0 | T16: ='Indirect Rates and Profit_Fee'!$F$6 -> 0 | U16: ='Indirect Rates and Profit_Fee'!$F$7 -> 0 | V16: =Q16*(1+S16)*(1+T16)*(1+U16) -> 0 | X16: =IF(Q16=0,"N/A",((W16-Q16)/Q16)) -> N/A | Y16: ='Indirect Rates and Profit_Fee'!$G$5 -> 0 | Z16: ='Indirect Rates and Profit_Fee'!$G$6 -> 0 | AA16: ='Indirect Rates and Profit_Fee'!$G$7 -> 0 | AB16: =W16*(1+Y16)*(1+Z16)*(1+AA16) -> 0 | AD16: =IF(W16=0,"N/A",((AC16-W16)/W16)) -> N/A | AE16: ='Indirect Rates and Profit_Fee'!$H$5 -> 0 | AF16: ='Indirect Rates and Profit_Fee'!$H$6 -> 0 | AG16: ='Indirect Rates and Profit_Fee'!$H$7 -> 0 | AH16: =AC16*(1+AE16)*(1+AF16)*(1+AG16) -> 0 | AJ16: =IF(AC16=0,"N/A",((AI16-AC16)/AC16)) -> N/A | AK16: ='Indirect Rates and Profit_Fee'!$I$5 -> 0 | AL16: ='Indirect Rates and Profit_Fee'!$I$6 -> 0 | AM16: ='Indirect Rates and Profit_Fee'!$I$7 -> 0 | AN16: =AI16*(1+AK16)*(1+AL16)*(1+AM16) -> 0
B17: =IF(ISBLANK(C17),"","Select a DARPA Labor Cat.") | F17: N/A | G17: ='Indirect Rates and Profit_Fee'!$D$5 -> 0 | H17: ='Indirect Rates and Profit_Fee'!$D$6 -> 0 | I17: ='Indirect Rates and Profit_Fee'!$D$7 -> 0 | J17: =E17*(1+G17)*(1+H17)*(1+I17) -> 0 | L17: =IF(E17=0,"N/A",((K17-E17)/E17)) -> N/A | M17: ='Indirect Rates and Profit_Fee'!$E$5 -> 0 | N17: ='Indirect Rates and Profit_Fee'!$E$6 -> 0 | O17: ='Indirect Rates and Profit_Fee'!$E$7 -> 0 | P17: =K17*(1+M17)*(1+N17)*(1+O17) -> 0 | R17: =IF(K17=0,"N/A",((Q17-K17)/K17)) -> N/A | S17: ='Indirect Rates and Profit_Fee'!$F$5 -> 0 | T17: ='Indirect Rates and Profit_Fee'!$F$6 -> 0 | U17: ='Indirect Rates and Profit_Fee'!$F$7 -> 0 | V17: =Q17*(1+S17)*(1+T17)*(1+U17) -> 0 | X17: =IF(Q17=0,"N/A",((W17-Q17)/Q17)) -> N/A | Y17: ='Indirect Rates and Profit_Fee'!$G$5 -> 0 | Z17: ='Indirect Rates and Profit_Fee'!$G$6 -> 0 | AA17: ='Indirect Rates and Profit_Fee'!$G$7 -> 0 | AB17: =W17*(1+Y17)*(1+Z17)*(1+AA17) -> 0 | AD17: =IF(W17=0,"N/A",((AC17-W17)/W17)) -> N/A | AE17: ='Indirect Rates and Profit_Fee'!$H$5 -> 0 | AF17: ='Indirect Rates and Profit_Fee'!$H$6 -> 0 | AG17: ='Indirect Rates and Profit_Fee'!$H$7 -> 0 | AH17: =AC17*(1+AE17)*(1+AF17)*(1+AG17) -> 0 | AJ17: =IF(AC17=0,"N/A",((AI17-AC17)/AC17)) -> N/A | AK17: ='Indirect Rates and Profit_Fee'!$I$5 -> 0 | AL17: ='Indirect Rates and Profit_Fee'!$I$6 -> 0 | AM17: ='Indirect Rates and Profit_Fee'!$I$7 -> 0 | AN17: =AI17*(1+AK17)*(1+AL17)*(1+AM17) -> 0
B18: =IF(ISBLANK(C18),"","Select a DARPA Labor Cat.") | F18: N/A | G18: ='Indirect Rates and Profit_Fee'!$D$5 -> 0 | H18: ='Indirect Rates and Profit_Fee'!$D$6 -> 0 | I18: ='Indirect Rates and Profit_Fee'!$D$7 -> 0 | J18: =E18*(1+G18)*(1+H18)*(1+I18) -> 0 | L18: =IF(E18=0,"N/A",((K18-E18)/E18)) -> N/A | M18: ='Indirect Rates and Profit_Fee'!$E$5 -> 0 | N18: ='Indirect Rates and Profit_Fee'!$E$6 -> 0 | O18: ='Indirect Rates and Profit_Fee'!$E$7 -> 0 | P18: =K18*(1+M18)*(1+N18)*(1+O18) -> 0 | R18: =IF(K18=0,"N/A",((Q18-K18)/K18)) -> N/A | S18: ='Indirect Rates and Profit_Fee'!$F$5 -> 0 | T18: ='Indirect Rates and Profit_Fee'!$F$6 -> 0 | U18: ='Indirect Rates and Profit_Fee'!$F$7 -> 0 | V18: =Q18*(1+S18)*(1+T18)*(1+U18) -> 0 | X18: =IF(Q18=0,"N/A",((W18-Q18)/Q18)) -> N/A | Y18: ='Indirect Rates and Profit_Fee'!$G$5 -> 0 | Z18: ='Indirect Rates and Profit_Fee'!$G$6 -> 0 | AA18: ='Indirect Rates and Profit_Fee'!$G$7 -> 0 | AB18: =W18*(1+Y18)*(1+Z18)*(1+AA18) -> 0 | AD18: =IF(W18=0,"N/A",((AC18-W18)/W18)) -> N/A | AE18: ='Indirect Rates and Profit_Fee'!$H$5 -> 0 | AF18: ='Indirect Rates and Profit_Fee'!$H$6 -> 0 | AG18: ='Indirect Rates and Profit_Fee'!$H$7 -> 0 | AH18: =AC18*(1+AE18)*(1+AF18)*(1+AG18) -> 0 | AJ18: =IF(AC18=0,"N/A",((AI18-AC18)/AC18)) -> N/A | AK18: ='Indirect Rates and Profit_Fee'!$I$5 -> 0 | AL18: ='Indirect Rates and Profit_Fee'!$I$6 -> 0 | AM18: ='Indirect Rates and Profit_Fee'!$I$7 -> 0 | AN18: =AI18*(1+AK18)*(1+AL18)*(1+AM18) -> 0
B19: =IF(ISBLANK(C19),"","Select a DARPA Labor Cat.") | F19: N/A | G19: ='Indirect Rates and Profit_Fee'!$D$5 -> 0 | H19: ='Indirect Rates and Profit_Fee'!$D$6 -> 0 | I19: ='Indirect Rates and Profit_Fee'!$D$7 -> 0 | J19: =E19*(1+G19)*(1+H19)*(1+I19) -> 0 | L19: =IF(E19=0,"N/A",((K19-E19)/E19)) -> N/A | M19: ='Indirect Rates and Profit_Fee'!$E$5 -> 0 | N19: ='Indirect Rates and Profit_Fee'!$E$6 -> 0 | O19: ='Indirect Rates and Profit_Fee'!$E$7 -> 0 | P19: =K19*(1+M19)*(1+N19)*(1+O19) -> 0 | R19: =IF(K19=0,"N/A",((Q19-K19)/K19)) -> N/A | S19: ='Indirect Rates and Profit_Fee'!$F$5 -> 0 | T19: ='Indirect Rates and Profit_Fee'!$F$6 -> 0 | U19: ='Indirect Rates and Profit_Fee'!$F$7 -> 0 | V19: =Q19*(1+S19)*(1+T19)*(1+U19) -> 0 | X19: =IF(Q19=0,"N/A",((W19-Q19)/Q19)) -> N/A | Y19: ='Indirect Rates and Profit_Fee'!$G$5 -> 0 | Z19: ='Indirect Rates and Profit_Fee'!$G$6 -> 0 | AA19: ='Indirect Rates and Profit_Fee'!$G$7 -> 0 | AB19: =W19*(1+Y19)*(1+Z19)*(1+AA19) -> 0 | AD19: =IF(W19=0,"N/A",((AC19-W19)/W19)) -> N/A | AE19: ='Indirect Rates and Profit_Fee'!$H$5 -> 0 | AF19: ='Indirect Rates and Profit_Fee'!$H$6 -> 0 | AG19: ='Indirect Rates and Profit_Fee'!$H$7 -> 0 | AH19: =AC19*(1+AE19)*(1+AF19)*(1+AG19) -> 0 | AJ19: =IF(AC19=0,"N/A",((AI19-AC19)/AC19)) -> N/A | AK19: ='Indirect Rates and Profit_Fee'!$I$5 -> 0 | AL19: ='Indirect Rates and Profit_Fee'!$I$6 -> 0 | AM19: ='Indirect Rates and Profit_Fee'!$I$7 -> 0 | AN19: =AI19*(1+AK19)*(1+AL19)*(1+AM19) -> 0
B20: =IF(ISBLANK(C20),"","Select a DARPA Labor Cat.") | F20: N/A | G20: ='Indirect Rates and Profit_Fee'!$D$5 -> 0 | H20: ='Indirect Rates and Profit_Fee'!$D$6 -> 0 | I20: ='Indirect Rates and Profit_Fee'!$D$7 -> 0 | J20: =E20*(1+G20)*(1+H20)*(1+I20) -> 0 | L20: =IF(E20=0,"N/A",((K20-E20)/E20)) -> N/A | M20: ='Indirect Rates and Profit_Fee'!$E$5 -> 0 | N20: ='Indirect Rates and Profit_Fee'!$E$6 -> 0 | O20: ='Indirect Rates and Profit_Fee'!$E$7 -> 0 | P20: =K20*(1+M20)*(1+N20)*(1+O20) -> 0 | R20: =IF(K20=0,"N/A",((Q20-K20)/K20)) -> N/A | S20: ='Indirect Rates and Profit_Fee'!$F$5 -> 0 | T20: ='Indirect Rates and Profit_Fee'!$F$6 -> 0 | U20: ='Indirect Rates and Profit_Fee'!$F$7 -> 0 | V20: =Q20*(1+S20)*(1+T20)*(1+U20) -> 0 | X20: =IF(Q20=0,"N/A",((W20-Q20)/Q20)) -> N/A | Y20: ='Indirect Rates and Profit_Fee'!$G$5 -> 0 | Z20: ='Indirect Rates and Profit_Fee'!$G$6 -> 0 | AA20: ='Indirect Rates and Profit_Fee'!$G$7 -> 0 | AB20: =W20*(1+Y20)*(1+Z20)*(1+AA20) -> 0 | AD20: =IF(W20=0,"N/A",((AC20-W20)/W20)) -> N/A | AE20: ='Indirect Rates and Profit_Fee'!$H$5 -> 0 | AF20: ='Indirect Rates and Profit_Fee'!$H$6 -> 0 | AG20: ='Indirect Rates and Profit_Fee'!$H$7 -> 0 | AH20: =AC20*(1+AE20)*(1+AF20)*(1+AG20) -> 0 | AJ20: =IF(AC20=0,"N/A",((AI20-AC20)/AC20)) -> N/A | AK20: ='Indirect Rates and Profit_Fee'!$I$5 -> 0 | AL20: ='Indirect Rates and Profit_Fee'!$I$6 -> 0 | AM20: ='Indirect Rates and Profit_Fee'!$I$7 -> 0 | AN20: =AI20*(1+AK20)*(1+AL20)*(1+AM20) -> 0
... B31: =IF(ISBLANK(C31),"","Select a DARPA Labor Cat.") | F31: N/A | G31: ='Indirect Rates and Profit_Fee'!$D$5 -> 0 | H31: ='Indirect Rates and Profit_Fee'!$D$6 -> 0 | I31: ='Indirect Rates and Profit_Fee'!$D$7 -> 0 | J31: =E31*(1+G31)*(1+H31)*(1+I31) -> 0 | L31: =IF(E31=0,"N/A",((K31-E31)/E31)) -> N/A | M31: ='Indirect Rates and Profit_Fee'!$E$5 -> 0 | N31: ='Indirect Rates and Profit_Fee'!$E$6 -> 0 | O31: ='Indirect Rates and Profit_Fee'!$E$7 -> 0 | P31: =K31*(1+M31)*(1+N31)*(1+O31) -> 0 | R31: =IF(K31=0,"N/A",((Q31-K31)/K31)) -> N/A | S31: ='Indirect Rates and Profit_Fee'!$F$5 -> 0 | T31: ='Indirect Rates and Profit_Fee'!$F$6 -> 0 | U31: ='Indirect Rates and Profit_Fee'!$F$7 -> 0 | V31: =Q31*(1+S31)*(1+T31)*(1+U31) -> 0 | X31: =IF(Q31=0,"N/A",((W31-Q31)/Q31)) -> N/A | Y31: ='Indirect Rates and Profit_Fee'!$G$5 -> 0 | Z31: ='Indirect Rates and Profit_Fee'!$G$6 -> 0 | AA31: ='Indirect Rates and Profit_Fee'!$G$7 -> 0 | AB31: =W31*(1+Y31)*(1+Z31)*(1+AA31) -> 0 | AD31: =IF(W31=0,"N/A",((AC31-W31)/W31)) -> N/A | AE31: ='Indirect Rates and Profit_Fee'!$H$5 -> 0 | AF31: ='Indirect Rates and Profit_Fee'!$H$6 -> 0 | AG31: ='Indirect Rates and Profit_Fee'!$H$7 -> 0 | AH31: =AC31*(1+AE31)*(1+AF31)*(1+AG31) -> 0 | AJ31: =IF(AC31=0,"N/A",((AI31-AC31)/AC31)) -> N/A | AK31: ='Indirect Rates and Profit_Fee'!$I$5 -> 0 | AL31: ='Indirect Rates and Profit_Fee'!$I$6 -> 0 | AM31: ='Indirect Rates and Profit_Fee'!$I$7 -> 0 | AN31: =AI31*(1+AK31)*(1+AL31)*(1+AM31) -> 0
A32: Insert additional Labor Category rows above this line. Also select Base and all Option tabs before inserting new rows. Copy formulas from adjacent rows.
A34: Instructions: | B34: • For each row in the Labor Rates table above, the Hourly Labor Rate, Fringe Benefits Rate, and Labor Overhead Rate columns are used for cost calculations in the Base and Options tabs. The G&A/F&A Rate and Loaded Rate are not used for calculations anywhere in this spreadsheet -- these two columns are used for review and evaluation. • Do not insert new columns in this table. If needed, composite rates may be used for Fringe Benefits, Labor Overhead, and G&A/F&A. • If composite rates are used, provide the calculations used in deriving the composite rates in your cost volume or add another worksheet tab in this spreadsheet to show calculations. • As a default, the Fringe Benefits, Labor Overhead, and G&A/F&A values are tied to entries on the Indirect Rates and Profit_Fee worksheet. Modify this link as appropriate. • Do not include any Cost of Money or Profit/Fee costs on this tab. • If the rates have been approved/negotiated by a Government agency, provide a copy of the memorandum/agreement (FPRA/FPRR). • If the rates have not been approved/negotiated, provide sufficient detail to enable a determination of allowability, allocability and reasonableness of the allocation bases and how the rates are calculated. This information can be provided in your cost volume or add another worksheet tab in this spreadsheet to show calculations. • If FPRA is not available, provide back-up documentation for labor rates (e.g., current payroll records)
A35: Note 1: | B35: Set This Organization's Business Type on the Proposer Constants worksheet to populate the list of DARPA Labor Categories
A36: Note 2: | B36: Each proposed Proposer Labor Category must be associated with a DARPA Labor Category (columns A and B above). Choose the best fit using the descriptions below. Proposer's should then place their own labor category title and name of proposed personnel as they normally would (columns C and D above).
B38: Labor Category Level | C38: Description
B39: I | C39: Entry-level/Junior
B40: II | C40: Junior to Mid-level/Journeyman
B41: III | C41: Mid-level/Journeyman
B42: IV | C42: Mid-Level/Journeyman to Senior Level
B43: V | C43: Senior Level
B44: Principal | C44: Team Lead/Subject Matter Expert
B46: Description Definitions | C46: Consider experience, education, and expertise when selecting a labor category level.
B47: ENTRY-LEVEL/JUNIOR: | C47: The junior-level or entry-level position assists more senior positions and may perform tasks and duties under supervision. This level performs work that requires practical experience and training, and applies fundamental concepts, processes, practices, and procedures on technical assignments.
B48: MID-LEVEL/JOURNEYMAN: | C48: The journeyman or mid-level position usually performs tasks and duties independently. This position displays and applies intermediate expertise in several complex work assignments which may require originality, innovation, or independent thinking to accomplish. The journeyman or mid-level position contributes to deliverables and performance metrics and is afforded some flexibility to develop or design methods, processes, or solutions to problems.
B49: SENIOR-LEVEL: | C49: The senior-level position works on high-visibility or mission-critical aspects of programs or projects and performs tasks and duties independently. This position may oversee or supervise or be responsible for the work of subordinate or less senior positions assigned to programs or projects. The senior-level position displays and applies mastery or distinguished expertise in critical tasks and high-impact assignments. This position leads, manages, plans, and functions as the technical or subject matter expert across multiple programs or projects.
B50: PRINCIPAL: | C50: The Principal position leads or manages the entire program or project. The Principal is often a person who is considered to be a leader in a scientific or technical field.

Sheet Summary Cost Table
B1: Proposer Fiscal Year Labels: | C1: =Period1_Label -> Proposer FY 1 | D1: =Period2_Label -> Proposer FY 2 | E1: =Period3_Label -> Proposer FY 3 | F1: =Period4_Label -> Proposer FY 4 | G1: =Period5_Label -> Proposer FY 5 | H1: =Period6_Label -> Proposer FY 6
B2: Hours Proposed in Each Fiscal Year: | C2: =Base!D32+'Option-I'!D32+'Option-II'!D32+#REF!+#REF!+#REF! -> #REF! | D2: =Base!L32+'Option-I'!L32+'Option-II'!L32+#REF!+#REF!+#REF! -> #REF! | E2: =Base!T32+'Option-I'!T32+'Option-II'!T32+#REF!+#REF!+#REF! -> #REF! | F2: =Base!AB32+'Option-I'!AB32+'Option-II'!AB32+#REF!+#REF!+#REF! -> #REF! | G2: =Base!AJ32+'Option-I'!AJ32+'Option-II'!AJ32+#REF!+#REF!+#REF! -> #REF! | H2: =Base!AR32+'Option-I'!AR32+'Option-II'!AR32+#REF!+#REF!+#REF! -> #REF!
D5: Base | E5: Op1 | F5: Op2 | G5: Op3 | H5: Op4 | I5: Op5 | J5: Row Sum
B6: Total Direct Labor Hours | C6: tdlc.hrs | D6: =INDIRECT(CONCATENATE($C6,".",D$5)) -> 0 | E6: =INDIRECT(CONCATENATE($C6,".",E$5)) -> 0 | F6: =INDIRECT(CONCATENATE($C6,".",F$5)) -> 0 | G6: =INDIRECT(CONCATENATE($C6,".",G$5)) -> #REF! | H6: =INDIRECT(CONCATENATE($C6,".",H$5)) -> #REF! | I6: =INDIRECT(CONCATENATE($C6,".",I$5)) -> #REF! | J6: =SUM(D6:I6) -> #REF!
B7: Total Direct Labor Costs | C7: tdlc.dlrs | D7: =INDIRECT(CONCATENATE($C7,".",D$5)) -> 0 | E7: =INDIRECT(CONCATENATE($C7,".",E$5)) -> 0 | F7: =INDIRECT(CONCATENATE($C7,".",F$5)) -> 0 | G7: =INDIRECT(CONCATENATE($C7,".",G$5)) -> #REF! | H7: =INDIRECT(CONCATENATE($C7,".",H$5)) -> #REF! | I7: =INDIRECT(CONCATENATE($C7,".",I$5)) -> #REF! | J7: =SUM(D7:I7) -> #REF!
B8: Total Fringe Benefit Costs | C8: tfbc.dlrs | D8: =INDIRECT(CONCATENATE($C8,".",D$5)) -> 0 | E8: =INDIRECT(CONCATENATE($C8,".",E$5)) -> 0 | F8: =INDIRECT(CONCATENATE($C8,".",F$5)) -> 0 | G8: =INDIRECT(CONCATENATE($C8,".",G$5)) -> #REF! | H8: =INDIRECT(CONCATENATE($C8,".",H$5)) -> #REF! | I8: =INDIRECT(CONCATENATE($C8,".",I$5)) -> #REF! | J8: =SUM(D8:I8) -> #REF!
B9: Total Labor Overhead Costs | C9: tloc.dlrs | D9: =INDIRECT(CONCATENATE($C9,".",D$5)) -> 0 | E9: =INDIRECT(CONCATENATE($C9,".",E$5)) -> 0 | F9: =INDIRECT(CONCATENATE($C9,".",F$5)) -> 0 | G9: =INDIRECT(CONCATENATE($C9,".",G$5)) -> #REF! | H9: =INDIRECT(CONCATENATE($C9,".",H$5)) -> #REF! | I9: =INDIRECT(CONCATENATE($C9,".",I$5)) -> #REF! | J9: =SUM(D9:I9) -> #REF!
B10: Total Subcontract Costs | C10: tsc.dlrs | D10: =INDIRECT(CONCATENATE($C10,".",D$5)) -> 0 | E10: =INDIRECT(CONCATENATE($C10,".",E$5)) -> 0 | F10: =INDIRECT(CONCATENATE($C10,".",F$5)) -> 0 | G10: =INDIRECT(CONCATENATE($C10,".",G$5)) -> #REF! | H10: =INDIRECT(CONCATENATE($C10,".",H$5)) -> #REF! | I10: =INDIRECT(CONCATENATE($C10,".",I$5)) -> #REF! | J10: =SUM(D10:I10) -> #REF!
B11: Total Consultant Costs | C11: tcc.dlrs | D11: =INDIRECT(CONCATENATE($C11,".",D$5)) -> 0 | E11: =INDIRECT(CONCATENATE($C11,".",E$5)) -> 0 | F11: =INDIRECT(CONCATENATE($C11,".",F$5)) -> 0 | G11: =INDIRECT(CONCATENATE($C11,".",G$5)) -> #REF! | H11: =INDIRECT(CONCATENATE($C11,".",H$5)) -> #REF! | I11: =INDIRECT(CONCATENATE($C11,".",I$5)) -> #REF! | J11: =SUM(D11:I11) -> #REF!
B12: Total Other Direct Costs | C12: todc.dlrs | D12: =INDIRECT(CONCATENATE($C12,".",D$5)) -> 0 | E12: =INDIRECT(CONCATENATE($C12,".",E$5)) -> 0 | F12: =INDIRECT(CONCATENATE($C12,".",F$5)) -> 0 | G12: =INDIRECT(CONCATENATE($C12,".",G$5)) -> #REF! | H12: =INDIRECT(CONCATENATE($C12,".",H$5)) -> #REF! | I12: =INDIRECT(CONCATENATE($C12,".",I$5)) -> #REF! | J12: =SUM(D12:I12) -> #REF!
B13: Total Material Handling Costs | C13: tmhc.dlrs | D13: =INDIRECT(CONCATENATE($C13,".",D$5)) -> 0 | E13: =INDIRECT(CONCATENATE($C13,".",E$5)) -> 0 | F13: =INDIRECT(CONCATENATE($C13,".",F$5)) -> 0 | G13: =INDIRECT(CONCATENATE($C13,".",G$5)) -> #REF! | H13: =INDIRECT(CONCATENATE($C13,".",H$5)) -> #REF! | I13: =INDIRECT(CONCATENATE($C13,".",I$5)) -> #REF! | J13: =SUM(D13:I13) -> #REF!
B14: Subtotal Costs | C14: sc.dlrs | D14: =INDIRECT(CONCATENATE($C14,".",D$5)) -> 0 | E14: =INDIRECT(CONCATENATE($C14,".",E$5)) -> 0 | F14: =INDIRECT(CONCATENATE($C14,".",F$5)) -> 0 | G14: =INDIRECT(CONCATENATE($C14,".",G$5)) -> #REF! | H14: =INDIRECT(CONCATENATE($C14,".",H$5)) -> #REF! | I14: =INDIRECT(CONCATENATE($C14,".",I$5)) -> #REF! | J14: =SUM(D14:I14) -> #REF!
B15: Total G&A Costs | C15: tgac.dlrs | D15: =INDIRECT(CONCATENATE($C15,".",D$5)) -> 0 | E15: =INDIRECT(CONCATENATE($C15,".",E$5)) -> 0 | F15: =INDIRECT(CONCATENATE($C15,".",F$5)) -> 0 | G15: =INDIRECT(CONCATENATE($C15,".",G$5)) -> #REF! | H15: =INDIRECT(CONCATENATE($C15,".",H$5)) -> #REF! | I15: =INDIRECT(CONCATENATE($C15,".",I$5)) -> #REF! | J15: =SUM(D15:I15) -> #REF!
B16: Total Cost of Money | C16: tcm.dlrs | D16: =INDIRECT(CONCATENATE($C16,".",D$5)) -> 0 | E16: =INDIRECT(CONCATENATE($C16,".",E$5)) -> 0 | F16: =INDIRECT(CONCATENATE($C16,".",F$5)) -> 0 | G16: =INDIRECT(CONCATENATE($C16,".",G$5)) -> #REF! | H16: =INDIRECT(CONCATENATE($C16,".",H$5)) -> #REF! | I16: =INDIRECT(CONCATENATE($C16,".",I$5)) -> #REF! | J16: =SUM(D16:I16) -> #REF!
B17: Fixed Fee | C17: ff.dlrs | D17: =INDIRECT(CONCATENATE($C17,".",D$5)) -> 0 | E17: =INDIRECT(CONCATENATE($C17,".",E$5)) -> 0 | F17: =INDIRECT(CONCATENATE($C17,".",F$5)) -> 0 | G17: =INDIRECT(CONCATENATE($C17,".",G$5)) -> #REF! | H17: =INDIRECT(CONCATENATE($C17,".",H$5)) -> #REF! | I17: =INDIRECT(CONCATENATE($C17,".",I$5)) -> #REF! | J17: =SUM(D17:I17) -> #REF!
B18: Total Estimated Costs Plus Fixed Fee | C18: tecpff.dlrs | D18: =INDIRECT(CONCATENATE($C18,".",D$5)) -> 0 | E18: =INDIRECT(CONCATENATE($C18,".",E$5)) -> 0 | F18: =INDIRECT(CONCATENATE($C18,".",F$5)) -> 0 | G18: =INDIRECT(CONCATENATE($C18,".",G$5)) -> #REF! | H18: =INDIRECT(CONCATENATE($C18,".",H$5)) -> #REF! | I18: =INDIRECT(CONCATENATE($C18,".",I$5)) -> #REF!
B19: Column Totals | D19: =SUM(D7:D13)+SUM(D15:D17) -> 0 | E19: =SUM(E7:E13)+SUM(E15:E17) -> 0 | F19: =SUM(F7:F13)+SUM(F15:F17) -> 0 | G19: =SUM(G7:G13)+SUM(G15:G17) -> #REF! | H19: =SUM(H7:H13)+SUM(H15:H17) -> #REF! | I19: =SUM(I7:I13)+SUM(I15:I17) -> #REF! | J19: =SUM(J7:J13)+SUM(J15:J17) -> #REF!
E21: Sum of Column Totals ($) | F21: =SUM(D19:I19) -> #REF!
E22: Sum of Row Totals ($) | F22: =J19 -> #REF!
E23: COLUMN TOTALS - ROW TOTALS | F23: =F21-F22 -> #REF! | G23: This should be $0. If not, research is needed.

Sheet Indirect Rates and Profit_Fee
A1: Indirect Rates and Profit or Fee
A2: =General!C2 -> Proposer's Name (Prime or Subcontractor)
D3: =Period1_Label -> Proposer FY 1 | E3: =Period2_Label -> Proposer FY 2 | F3: =Period3_Label -> Proposer FY 3 | G3: =Period4_Label -> Proposer FY 4 | H3: =Period5_Label -> Proposer FY 5 | I3: =Period6_Label -> Proposer FY 6 | J3: Basis of Rate | K3: Applied Against
A4: DARPA Rate Category | B4: Proposer's Indirect Rate Name | D4: % Rate | E4: % Rate | F4: % Rate | G4: % Rate | H4: % Rate | I4: % Rate | J4: (Example: FPRA, FPRP, Estimate, etc.)
A5: Fringe | B5: Labor Fringe
A6: Overhead (Labor) | B6: Labor Overhead
A7: General and Administrative | B7: G&A
A12: Insert additional Indirect Rates above this line
A14: Instructions: | B14: • If the rates have been approved/negotiated by a Government agency, provide a copy of the memorandum/agreement. • If the rates have not been approved/negotiated, provide sufficient detail to enable a determination of allowability, allocability and reasonableness of the allocation bases and how the rates are calculated. This information can be provided in your cost volume or add another worksheet tab in this spreadsheet to show calculations. • If composite rates are used, provide the calculations used in deriving the composite rates in your cost volume or add another worksheet tab in this spreadsheet to show calculations.
A16: Note 1: | B16: Choose an indirect rate from the drop down box in Column A above. Add additional indirect rate category rows if needed. If one proposer rate covers two different DARPA Rate Categories, enter the rate twice with the two different DARPA Rate Categories.
A18: Note 2: | B18: If the proposer does not have a Forward Pricing Rate Agreement (FPRA), Forward Pricing Rate Recommendation (FPRR), or provisional billing rates; in order to assist the Government in evaluating the reasonableness of your proposed indirect rates, please provide the following information:
C19: 1. Proforma data used to develop your proposed indirect rates. This consists of breakout of cost pool and cost base that demonstrate how the indirect rate(s) was derived. This information can be provided in your cost volume or add another worksheet tab in this spreadsheet to show calculations
C20: 2. Information regarding your projections for out years, including your assumptions and method for developing these estimates.

Sheet Total Amount
A1: Cost Proposal - Total Amount
A2: Proposer | B2: =General!C2 -> Proposer's Name (Prime or Subcontractor)
A3: Prime Contractor | B3: =General!C3 -> Prime Contractor (Fill-in) (if applicable)
E4: (Note 2) | H4: (Note 2) | K4: (Note 2)
E5: BASE | H5: OPTION 1 | K5: OPTION 2 | M5: Total
A6: Direct Labor (DL) | E6: =Base!$C1 -> Enter proposed PoP as "MM/YY to MM/YY" | H6: ='Option-I'!$C1 -> Enter proposed PoP as "MM/YY to MM/YY" | K6: ='Option-II'!$C1 -> Enter proposed PoP as "MM/YY to MM/YY" | M6: (Note 3) | N6: X-Months
B7: Proposer's Labor Category (Note 1) | C7: Name (Last, First) | D7: Hours | E7: Rate | F7: Cost | G7: Hours | H7: Rate | I7: Cost | J7: Hours | K7: Rate | L7: Cost | M7: Hours | N7: Cost
B8: =IF(ISBLANK('Labor Rates'!C8),"",'Labor Rates'!C8) | C8: =IF(ISBLANK('Labor Rates'!D8),"",'Labor Rates'!D8) | D8: =Base!$AZ8 -> 0 | E8: See Base Tab | F8: =Base!$BA8 -> 0 | G8: ='Option-I'!$AZ8 -> 0 | H8: See O-I tab | I8: ='Option-I'!$BA8 -> 0 | J8: ='Option-II'!$AZ8 -> 0 | K8: See O-II tab | L8: ='Option-II'!$BA8 -> 0 | M8: =D8+G8+J8+L8 -> 0 | N8: =F8+I8+L8 -> 0
B9: =IF(ISBLANK('Labor Rates'!C9),"",'Labor Rates'!C9) | C9: =IF(ISBLANK('Labor Rates'!D9),"",'Labor Rates'!D9) | D9: =Base!$AZ9 -> 0 | E9: See Base Tab | F9: =Base!$BA9 -> 0 | G9: ='Option-I'!$AZ9 -> 0 | H9: See O-I tab | I9: ='Option-I'!$BA9 -> 0 | J9: ='Option-II'!$AZ9 -> 0 | K9: See O-II tab | L9: ='Option-II'!$BA9 -> 0 | M9: =D9+G9+J9+L9 -> 0 | N9: =F9+I9+L9 -> 0
B10: =IF(ISBLANK('Labor Rates'!C10),"",'Labor Rates'!C10) | C10: =IF(ISBLANK('Labor Rates'!D10),"",'Labor Rates'!D10) | D10: =Base!$AZ10 -> 0 | E10: See Base Tab | F10: =Base!$BA10 -> 0 | G10: ='Option-I'!$AZ10 -> 0 | H10: See O-I tab | I10: ='Option-I'!$BA10 -> 0 | J10: ='Option-II'!$AZ10 -> 0 | K10: See O-II tab | L10: ='Option-II'!$BA10 -> 0 | M10: =D10+G10+J10+L10 -> 0 | N10: =F10+I10+L10 -> 0
B11: =IF(ISBLANK('Labor Rates'!C11),"",'Labor Rates'!C11) | C11: =IF(ISBLANK('Labor Rates'!D11),"",'Labor Rates'!D11) | D11: =Base!$AZ11 -> 0 | E11: See Base Tab | F11: =Base!$BA11 -> 0 | G11: ='Option-I'!$AZ11 -> 0 | H11: See O-I tab | I11: ='Option-I'!$BA11 -> 0 | J11: ='Option-II'!$AZ11 -> 0 | K11: See O-II tab | L11: ='Option-II'!$BA11 -> 0 | M11: =D11+G11+J11+L11 -> 0 | N11: =F11+I11+L11 -> 0
B12: =IF(ISBLANK('Labor Rates'!C12),"",'Labor Rates'!C12) | C12: =IF(ISBLANK('Labor Rates'!D12),"",'Labor Rates'!D12) | D12: =Base!$AZ12 -> 0 | E12: See Base Tab | F12: =Base!$BA12 -> 0 | G12: ='Option-I'!$AZ12 -> 0 | H12: See O-I tab | I12: ='Option-I'!$BA12 -> 0 | J12: ='Option-II'!$AZ12 -> 0 | K12: See O-II tab | L12: ='Option-II'!$BA12 -> 0 | M12: =D12+G12+J12+L12 -> 0 | N12: =F12+I12+L12 -> 0
